BEGIN:VCALENDAR
VERSION:2.0
PRODID:-//Muziekvereniging Nunhem - ECPv6.15.20//NONSGML v1.0//EN
CALSCALE:GREGORIAN
METHOD:PUBLISH
X-WR-CALNAME:Muziekvereniging Nunhem
X-ORIGINAL-URL:https://muziekverenigingnunhem.nl
X-WR-CALDESC:Evenementen voor Muziekvereniging Nunhem
REFRESH-INTERVAL;VALUE=DURATION:PT1H
X-Robots-Tag:noindex
X-PUBLISHED-TTL:PT1H
BEGIN:VTIMEZONE
TZID:Europe/Amsterdam
BEGIN:DAYLIGHT
TZOFFSETFROM:+0100
TZOFFSETTO:+0200
TZNAME:CEST
DTSTART:20160327T010000
END:DAYLIGHT
BEGIN:STANDARD
TZOFFSETFROM:+0200
TZOFFSETTO:+0100
TZNAME:CET
DTSTART:20161030T010000
END:STANDARD
BEGIN:DAYLIGHT
TZOFFSETFROM:+0100
TZOFFSETTO:+0200
TZNAME:CEST
DTSTART:20170326T010000
END:DAYLIGHT
BEGIN:STANDARD
TZOFFSETFROM:+0200
TZOFFSETTO:+0100
TZNAME:CET
DTSTART:20171029T010000
END:STANDARD
BEGIN:DAYLIGHT
TZOFFSETFROM:+0100
TZOFFSETTO:+0200
TZNAME:CEST
DTSTART:20180325T010000
END:DAYLIGHT
BEGIN:STANDARD
TZOFFSETFROM:+0200
TZOFFSETTO:+0100
TZNAME:CET
DTSTART:20181028T010000
END:STANDARD
BEGIN:DAYLIGHT
TZOFFSETFROM:+0100
TZOFFSETTO:+0200
TZNAME:CEST
DTSTART:20190331T010000
END:DAYLIGHT
BEGIN:STANDARD
TZOFFSETFROM:+0200
TZOFFSETTO:+0100
TZNAME:CET
DTSTART:20191027T010000
END:STANDARD
END:VTIMEZONE
BEGIN:VEVENT
DTSTART;TZID=Europe/Amsterdam:20180416T193000
DTEND;TZID=Europe/Amsterdam:20180416T220000
DTSTAMP:20260420T043527
CREATED:20171214T140502Z
LAST-MODIFIED:20171214T140502Z
UID:581-1523907000-1523916000@muziekverenigingnunhem.nl
SUMMARY:Repetitie
DESCRIPTION:
URL:https://muziekverenigingnunhem.nl/event/repetitie-24/
CATEGORIES:Repetitie Fanfare
END:VEVENT
BEGIN:VEVENT
DTSTART;TZID=Europe/Amsterdam:20180409T203000
DTEND;TZID=Europe/Amsterdam:20180409T223000
DTSTAMP:20260420T043527
CREATED:20171214T135321Z
LAST-MODIFIED:20171214T135321Z
UID:579-1523305800-1523313000@muziekverenigingnunhem.nl
SUMMARY:Jaarvergadering
DESCRIPTION:
URL:https://muziekverenigingnunhem.nl/event/jaarvergadering/
END:VEVENT
BEGIN:VEVENT
DTSTART;TZID=Europe/Amsterdam:20180409T193000
DTEND;TZID=Europe/Amsterdam:20180409T202000
DTSTAMP:20260420T043527
CREATED:20171214T135255Z
LAST-MODIFIED:20171214T135255Z
UID:577-1523302200-1523305200@muziekverenigingnunhem.nl
SUMMARY:Repetitie
DESCRIPTION:
URL:https://muziekverenigingnunhem.nl/event/repetitie-23/
CATEGORIES:Repetitie Fanfare
END:VEVENT
BEGIN:VEVENT
DTSTART;TZID=Europe/Amsterdam:20180403T193000
DTEND;TZID=Europe/Amsterdam:20180403T210000
DTSTAMP:20260420T043527
CREATED:20171214T135212Z
LAST-MODIFIED:20171214T135212Z
UID:575-1522783800-1522789200@muziekverenigingnunhem.nl
SUMMARY:Repetitie o.v.b.
DESCRIPTION:
URL:https://muziekverenigingnunhem.nl/event/repetitie-o-v-b/
CATEGORIES:Repetitie Fanfare
END:VEVENT
BEGIN:VEVENT
DTSTART;TZID=Europe/Amsterdam:20180326T193000
DTEND;TZID=Europe/Amsterdam:20180326T220000
DTSTAMP:20260420T043527
CREATED:20171214T135124Z
LAST-MODIFIED:20171214T135124Z
UID:573-1522092600-1522101600@muziekverenigingnunhem.nl
SUMMARY:Repetitie
DESCRIPTION:
URL:https://muziekverenigingnunhem.nl/event/repetitie-22/
CATEGORIES:Repetitie Fanfare
END:VEVENT
BEGIN:VEVENT
DTSTART;TZID=Europe/Amsterdam:20180319T193000
DTEND;TZID=Europe/Amsterdam:20180319T220000
DTSTAMP:20260420T043527
CREATED:20171214T135041Z
LAST-MODIFIED:20171214T135041Z
UID:571-1521487800-1521496800@muziekverenigingnunhem.nl
SUMMARY:Repetitie
DESCRIPTION:
URL:https://muziekverenigingnunhem.nl/event/repetitie-21/
CATEGORIES:Repetitie Fanfare
END:VEVENT
BEGIN:VEVENT
DTSTART;TZID=Europe/Amsterdam:20180312T193000
DTEND;TZID=Europe/Amsterdam:20180312T220000
DTSTAMP:20260420T043527
CREATED:20171214T134959Z
LAST-MODIFIED:20171214T134959Z
UID:568-1520883000-1520892000@muziekverenigingnunhem.nl
SUMMARY:Repetitie
DESCRIPTION:
URL:https://muziekverenigingnunhem.nl/event/repetitie-20/
CATEGORIES:Repetitie Fanfare
END:VEVENT
BEGIN:VEVENT
DTSTART;TZID=Europe/Amsterdam:20180305T193000
DTEND;TZID=Europe/Amsterdam:20180305T220000
DTSTAMP:20260420T043527
CREATED:20171214T134931Z
LAST-MODIFIED:20171214T134931Z
UID:566-1520278200-1520287200@muziekverenigingnunhem.nl
SUMMARY:Repetitie
DESCRIPTION:
URL:https://muziekverenigingnunhem.nl/event/repetitie-19/
CATEGORIES:Repetitie Fanfare
END:VEVENT
BEGIN:VEVENT
DTSTART;TZID=Europe/Amsterdam:20180303T180000
DTEND;TZID=Europe/Amsterdam:20180303T190000
DTSTAMP:20260420T043527
CREATED:20171214T134844Z
LAST-MODIFIED:20171214T134844Z
UID:564-1520100000-1520103600@muziekverenigingnunhem.nl
SUMMARY:Voorstellingsmis communicanten
DESCRIPTION:
URL:https://muziekverenigingnunhem.nl/event/voorstellingsmis-communicanten/
END:VEVENT
BEGIN:VEVENT
DTSTART;TZID=Europe/Amsterdam:20180226T193000
DTEND;TZID=Europe/Amsterdam:20180226T220000
DTSTAMP:20260420T043527
CREATED:20171214T134740Z
LAST-MODIFIED:20171214T134740Z
UID:562-1519673400-1519682400@muziekverenigingnunhem.nl
SUMMARY:Repetitie
DESCRIPTION:
URL:https://muziekverenigingnunhem.nl/event/repetitie-18/
CATEGORIES:Repetitie Fanfare
END:VEVENT
BEGIN:VEVENT
DTSTART;TZID=Europe/Amsterdam:20180219T193000
DTEND;TZID=Europe/Amsterdam:20180219T220000
DTSTAMP:20260420T043527
CREATED:20171214T134711Z
LAST-MODIFIED:20171214T134711Z
UID:560-1519068600-1519077600@muziekverenigingnunhem.nl
SUMMARY:Repetitie
DESCRIPTION:
URL:https://muziekverenigingnunhem.nl/event/repetitie-17/
CATEGORIES:Repetitie Fanfare
END:VEVENT
BEGIN:VEVENT
DTSTART;TZID=Europe/Amsterdam:20180205T193000
DTEND;TZID=Europe/Amsterdam:20180205T220000
DTSTAMP:20260420T043527
CREATED:20171214T134646Z
LAST-MODIFIED:20171214T134646Z
UID:558-1517859000-1517868000@muziekverenigingnunhem.nl
SUMMARY:Repetitie
DESCRIPTION:
URL:https://muziekverenigingnunhem.nl/event/repetitie-16/
CATEGORIES:Repetitie Fanfare
END:VEVENT
BEGIN:VEVENT
DTSTART;TZID=Europe/Amsterdam:20180129T193000
DTEND;TZID=Europe/Amsterdam:20180129T220000
DTSTAMP:20260420T043527
CREATED:20171214T134618Z
LAST-MODIFIED:20171214T134618Z
UID:556-1517254200-1517263200@muziekverenigingnunhem.nl
SUMMARY:Repetitie
DESCRIPTION:
URL:https://muziekverenigingnunhem.nl/event/repetitie-15/
CATEGORIES:Repetitie Fanfare
END:VEVENT
BEGIN:VEVENT
DTSTART;TZID=Europe/Amsterdam:20180122T193000
DTEND;TZID=Europe/Amsterdam:20180122T220000
DTSTAMP:20260420T043527
CREATED:20171214T134502Z
LAST-MODIFIED:20171214T134502Z
UID:553-1516649400-1516658400@muziekverenigingnunhem.nl
SUMMARY:Repetitie
DESCRIPTION:
URL:https://muziekverenigingnunhem.nl/event/repetitie-14/
CATEGORIES:Repetitie Fanfare
END:VEVENT
BEGIN:VEVENT
DTSTART;TZID=Europe/Amsterdam:20180115T193000
DTEND;TZID=Europe/Amsterdam:20180115T220000
DTSTAMP:20260420T043527
CREATED:20171209T092614Z
LAST-MODIFIED:20171214T134535Z
UID:546-1516044600-1516053600@muziekverenigingnunhem.nl
SUMMARY:Repetitie
DESCRIPTION:
URL:https://muziekverenigingnunhem.nl/event/repetitie-13/
CATEGORIES:Repetitie Fanfare
END:VEVENT
BEGIN:VEVENT
DTSTART;TZID=Europe/Amsterdam:20180108T193000
DTEND;TZID=Europe/Amsterdam:20180108T220000
DTSTAMP:20260420T043527
CREATED:20171105T131302Z
LAST-MODIFIED:20171105T131302Z
UID:476-1515439800-1515448800@muziekverenigingnunhem.nl
SUMMARY:Repetitie
DESCRIPTION:
URL:https://muziekverenigingnunhem.nl/event/repetitie-12/
CATEGORIES:Repetitie Fanfare
END:VEVENT
BEGIN:VEVENT
DTSTART;TZID=Europe/Amsterdam:20171223T200000
DTEND;TZID=Europe/Amsterdam:20171223T230000
DTSTAMP:20260420T043527
CREATED:20171003T190749Z
LAST-MODIFIED:20171209T092502Z
UID:102-1514059200-1514070000@muziekverenigingnunhem.nl
SUMMARY:Kerstconcert met buutreedner Gilbert Petit
DESCRIPTION:
URL:https://muziekverenigingnunhem.nl/event/kerstconcert/
LOCATION:Gemeenschapshuis St. Servaas\, Nederland
CATEGORIES:Concerten
END:VEVENT
BEGIN:VEVENT
DTSTART;TZID=Europe/Amsterdam:20171218T193000
DTEND;TZID=Europe/Amsterdam:20171218T220000
DTSTAMP:20260420T043527
CREATED:20171105T130915Z
LAST-MODIFIED:20171105T130915Z
UID:468-1513625400-1513634400@muziekverenigingnunhem.nl
SUMMARY:Repetitie
DESCRIPTION:
URL:https://muziekverenigingnunhem.nl/event/repetitie-11/
CATEGORIES:Repetitie Fanfare
END:VEVENT
BEGIN:VEVENT
DTSTART;TZID=Europe/Amsterdam:20171216T090000
DTEND;TZID=Europe/Amsterdam:20171216T150000
DTSTAMP:20260420T043527
CREATED:20171105T131024Z
LAST-MODIFIED:20171209T092405Z
UID:474-1513414800-1513436400@muziekverenigingnunhem.nl
SUMMARY:Kerstbomenverkoop
DESCRIPTION:
URL:https://muziekverenigingnunhem.nl/event/kerstbomenverkoop-3/
END:VEVENT
BEGIN:VEVENT
DTSTART;TZID=Europe/Amsterdam:20171211T193000
DTEND;TZID=Europe/Amsterdam:20171211T220000
DTSTAMP:20260420T043527
CREATED:20171105T130839Z
LAST-MODIFIED:20171105T130839Z
UID:466-1513020600-1513029600@muziekverenigingnunhem.nl
SUMMARY:Repetitie
DESCRIPTION:
URL:https://muziekverenigingnunhem.nl/event/repetitie-10/
CATEGORIES:Repetitie Fanfare
END:VEVENT
BEGIN:VEVENT
DTSTART;TZID=Europe/Amsterdam:20171209T090000
DTEND;TZID=Europe/Amsterdam:20171209T150000
DTSTAMP:20260420T043527
CREATED:20171105T131006Z
LAST-MODIFIED:20171209T092224Z
UID:472-1512810000-1512831600@muziekverenigingnunhem.nl
SUMMARY:Kerstbomenverkoop
DESCRIPTION:
URL:https://muziekverenigingnunhem.nl/event/kerstbomenverkoop-2/
END:VEVENT
BEGIN:VEVENT
DTSTART;TZID=Europe/Amsterdam:20171204T193000
DTEND;TZID=Europe/Amsterdam:20171204T220000
DTSTAMP:20260420T043527
CREATED:20171105T130615Z
LAST-MODIFIED:20171105T130806Z
UID:464-1512415800-1512424800@muziekverenigingnunhem.nl
SUMMARY:Repetitie
DESCRIPTION:
URL:https://muziekverenigingnunhem.nl/event/repetitie-9/
CATEGORIES:Repetitie Fanfare
END:VEVENT
BEGIN:VEVENT
DTSTART;VALUE=DATE:20171202
DTEND;VALUE=DATE:20171203
DTSTAMP:20260420T043527
CREATED:20171105T130948Z
LAST-MODIFIED:20171105T131149Z
UID:470-1512172800-1512259199@muziekverenigingnunhem.nl
SUMMARY:Kerstbomenverkoop
DESCRIPTION:
URL:https://muziekverenigingnunhem.nl/event/kerstbomenverkoop/
END:VEVENT
BEGIN:VEVENT
DTSTART;TZID=Europe/Amsterdam:20171127T193000
DTEND;TZID=Europe/Amsterdam:20171127T220000
DTSTAMP:20260420T043527
CREATED:20171105T130541Z
LAST-MODIFIED:20171105T130541Z
UID:462-1511811000-1511820000@muziekverenigingnunhem.nl
SUMMARY:Repetitie
DESCRIPTION:
URL:https://muziekverenigingnunhem.nl/event/repetitie-8/
CATEGORIES:Repetitie Fanfare
END:VEVENT
BEGIN:VEVENT
DTSTART;TZID=Europe/Amsterdam:20171120T193000
DTEND;TZID=Europe/Amsterdam:20171120T220000
DTSTAMP:20260420T043527
CREATED:20171105T130343Z
LAST-MODIFIED:20171105T130419Z
UID:460-1511206200-1511215200@muziekverenigingnunhem.nl
SUMMARY:Repetitie
DESCRIPTION:
URL:https://muziekverenigingnunhem.nl/event/repetitie-7/
CATEGORIES:Repetitie Fanfare
END:VEVENT
BEGIN:VEVENT
DTSTART;TZID=Europe/Amsterdam:20171119T120000
DTEND;TZID=Europe/Amsterdam:20171119T140000
DTSTAMP:20260420T043527
CREATED:20171003T190712Z
LAST-MODIFIED:20171003T202537Z
UID:100-1511092800-1511100000@muziekverenigingnunhem.nl
SUMMARY:intocht Sinterklaas
DESCRIPTION:
URL:https://muziekverenigingnunhem.nl/event/intocht-sinterklaas/
LOCATION:Gemeenschapshuis St. Servaas\, Nederland
CATEGORIES:Concerten
END:VEVENT
BEGIN:VEVENT
DTSTART;TZID=Europe/Amsterdam:20171118T191500
DTEND;TZID=Europe/Amsterdam:20171118T200000
DTSTAMP:20260420T043527
CREATED:20171003T190636Z
LAST-MODIFIED:20171105T130138Z
UID:97-1511032500-1511035200@muziekverenigingnunhem.nl
SUMMARY:Cecileamis
DESCRIPTION:
URL:https://muziekverenigingnunhem.nl/event/cecileamis-cecileafeest-o-v-b/
LOCATION:Servaaskerk Nunhem\, Nederland
CATEGORIES:Concerten
END:VEVENT
BEGIN:VEVENT
DTSTART;TZID=Europe/Amsterdam:20171113T193000
DTEND;TZID=Europe/Amsterdam:20171113T220000
DTSTAMP:20260420T043527
CREATED:20171105T130237Z
LAST-MODIFIED:20171105T130503Z
UID:458-1510601400-1510610400@muziekverenigingnunhem.nl
SUMMARY:Repetitie
DESCRIPTION:
URL:https://muziekverenigingnunhem.nl/event/repetitie-6/
CATEGORIES:Repetitie Fanfare
END:VEVENT
BEGIN:VEVENT
DTSTART;TZID=Europe/Amsterdam:20171112T110000
DTEND;TZID=Europe/Amsterdam:20171112T130000
DTSTAMP:20260420T043527
CREATED:20171105T131700Z
LAST-MODIFIED:20171106T182133Z
UID:478-1510484400-1510491600@muziekverenigingnunhem.nl
SUMMARY:Workshop met Fanfare-instrumenten
DESCRIPTION:Op zondag 12 november om 11.00 uur verzorgt ECI docent Hub Boesten een workshop in de Servaaszaal.\nKinderen kunnen diverse fanfare instrumenten uitproberen bijv. bugel\, saxofoon\, slagwerk.\nZijn ze enthousiast\, dan kunnen ze 5 gratis proeflessen volgen.\nDe kinderen starten meteen op een fanfare instrument. Dus niet op blokfluit.
URL:https://muziekverenigingnunhem.nl/event/workshop-met-fanfare-instrumenten/
LOCATION:Gemeenschapshuis St. Servaas\, Nederland
END:VEVENT
BEGIN:VEVENT
DTSTART;TZID=Europe/Amsterdam:20171110T180000
DTEND;TZID=Europe/Amsterdam:20171110T193000
DTSTAMP:20260420T043527
CREATED:20171003T190506Z
LAST-MODIFIED:20171003T202537Z
UID:95-1510336800-1510342200@muziekverenigingnunhem.nl
SUMMARY:Sint Maarten
DESCRIPTION:
URL:https://muziekverenigingnunhem.nl/event/sint-maarten/
CATEGORIES:Concerten
END:VEVENT
END:VCALENDAR