BEGIN:VCALENDAR
VERSION:2.0
PRODID:-//Muziekvereniging Nunhem - ECPv6.15.20//NONSGML v1.0//EN
CALSCALE:GREGORIAN
METHOD:PUBLISH
X-ORIGINAL-URL:https://muziekverenigingnunhem.nl
X-WR-CALDESC:Evenementen voor Muziekvereniging Nunhem
REFRESH-INTERVAL;VALUE=DURATION:PT1H
X-Robots-Tag:noindex
X-PUBLISHED-TTL:PT1H
BEGIN:VTIMEZONE
TZID:Europe/Amsterdam
BEGIN:DAYLIGHT
TZOFFSETFROM:+0100
TZOFFSETTO:+0200
TZNAME:CEST
DTSTART:20170326T010000
END:DAYLIGHT
BEGIN:STANDARD
TZOFFSETFROM:+0200
TZOFFSETTO:+0100
TZNAME:CET
DTSTART:20171029T010000
END:STANDARD
BEGIN:DAYLIGHT
TZOFFSETFROM:+0100
TZOFFSETTO:+0200
TZNAME:CEST
DTSTART:20180325T010000
END:DAYLIGHT
BEGIN:STANDARD
TZOFFSETFROM:+0200
TZOFFSETTO:+0100
TZNAME:CET
DTSTART:20181028T010000
END:STANDARD
BEGIN:DAYLIGHT
TZOFFSETFROM:+0100
TZOFFSETTO:+0200
TZNAME:CEST
DTSTART:20190331T010000
END:DAYLIGHT
BEGIN:STANDARD
TZOFFSETFROM:+0200
TZOFFSETTO:+0100
TZNAME:CET
DTSTART:20191027T010000
END:STANDARD
BEGIN:DAYLIGHT
TZOFFSETFROM:+0100
TZOFFSETTO:+0200
TZNAME:CEST
DTSTART:20200329T010000
END:DAYLIGHT
BEGIN:STANDARD
TZOFFSETFROM:+0200
TZOFFSETTO:+0100
TZNAME:CET
DTSTART:20201025T010000
END:STANDARD
BEGIN:DAYLIGHT
TZOFFSETFROM:+0100
TZOFFSETTO:+0200
TZNAME:CEST
DTSTART:20210328T010000
END:DAYLIGHT
BEGIN:STANDARD
TZOFFSETFROM:+0200
TZOFFSETTO:+0100
TZNAME:CET
DTSTART:20211031T010000
END:STANDARD
BEGIN:DAYLIGHT
TZOFFSETFROM:+0100
TZOFFSETTO:+0200
TZNAME:CEST
DTSTART:20220327T010000
END:DAYLIGHT
BEGIN:STANDARD
TZOFFSETFROM:+0200
TZOFFSETTO:+0100
TZNAME:CET
DTSTART:20221030T010000
END:STANDARD
BEGIN:DAYLIGHT
TZOFFSETFROM:+0100
TZOFFSETTO:+0200
TZNAME:CEST
DTSTART:20230326T010000
END:DAYLIGHT
BEGIN:STANDARD
TZOFFSETFROM:+0200
TZOFFSETTO:+0100
TZNAME:CET
DTSTART:20231029T010000
END:STANDARD
END:VTIMEZONE
BEGIN:VEVENT
DTSTART;TZID=Europe/Amsterdam:20220516T193000
DTEND;TZID=Europe/Amsterdam:20220516T213000
DTSTAMP:20260419T235057
CREATED:20220515T125623Z
LAST-MODIFIED:20220515T125623Z
UID:735-1652729400-1652736600@muziekverenigingnunhem.nl
SUMMARY:Repetitie met oefenen voor processie
DESCRIPTION:
URL:https://muziekverenigingnunhem.nl/event/repetitie-met-oefenen-voor-processie/
CATEGORIES:Repetitie Fanfare
END:VEVENT
BEGIN:VEVENT
DTSTART;TZID=Europe/Amsterdam:20220429T180000
DTEND;TZID=Europe/Amsterdam:20220429T203000
DTSTAMP:20260419T235057
CREATED:20220411T145915Z
LAST-MODIFIED:20220411T151232Z
UID:715-1651255200-1651264200@muziekverenigingnunhem.nl
SUMMARY:Oud papier april
DESCRIPTION:
URL:https://muziekverenigingnunhem.nl/event/oud-papier-april/
CATEGORIES:Oud papier ophalen
END:VEVENT
BEGIN:VEVENT
DTSTART;TZID=Europe/Amsterdam:20220411T193000
DTEND;TZID=Europe/Amsterdam:20220411T220000
DTSTAMP:20260419T235057
CREATED:20220411T142304Z
LAST-MODIFIED:20220411T144143Z
UID:710-1649705400-1649714400@muziekverenigingnunhem.nl
SUMMARY:Repetitie en jaarvergadering
DESCRIPTION:
URL:https://muziekverenigingnunhem.nl/event/repetitie-en-jaarvergadering/
LOCATION:Gemeenschapshuis St. Servaas\, Nederland
CATEGORIES:Repetitie Fanfare
END:VEVENT
BEGIN:VEVENT
DTSTART;TZID=Europe/Amsterdam:20190707T143000
DTEND;TZID=Europe/Amsterdam:20190707T180000
DTSTAMP:20260419T235057
CREATED:20190429T170102Z
LAST-MODIFIED:20190608T154152Z
UID:641-1562509800-1562522400@muziekverenigingnunhem.nl
SUMMARY:Dorpsconcert Around the world
DESCRIPTION:Locatie Dorpsplein en bij slecht weer in de Servaaszaal. Het publiek zal tijdens het luisteren naar de muziek uit diverse landen\, getrakteerd worden op passende hapjes en drankjes.\nOok nemen we deze middag afscheid van Hans Breuls.
URL:https://muziekverenigingnunhem.nl/event/dorpsconcert-around-the-world/
LOCATION:Gemeenschapshuis St. Servaas\, Nederland
CATEGORIES:Concerten
END:VEVENT
BEGIN:VEVENT
DTSTART;TZID=Europe/Amsterdam:20190701T190000
DTEND;TZID=Europe/Amsterdam:20190701T203000
DTSTAMP:20260419T235057
CREATED:20190429T170824Z
LAST-MODIFIED:20190429T170824Z
UID:643-1562007600-1562013000@muziekverenigingnunhem.nl
SUMMARY:Voorspeelavond jeugd
DESCRIPTION:
URL:https://muziekverenigingnunhem.nl/event/voorspeelavond-jeugd-2/
LOCATION:Gemeenschapshuis St. Servaas\, Nederland
CATEGORIES:Concerten
END:VEVENT
BEGIN:VEVENT
DTSTART;TZID=Europe/Amsterdam:20190624T193000
DTEND;TZID=Europe/Amsterdam:20190624T220000
DTSTAMP:20260419T235057
CREATED:20190429T165653Z
LAST-MODIFIED:20190429T165653Z
UID:631-1561404600-1561413600@muziekverenigingnunhem.nl
SUMMARY:Repetitie
DESCRIPTION:
URL:https://muziekverenigingnunhem.nl/event/repetitie-41/
LOCATION:Gemeenschapshuis St. Servaas\, Nederland
CATEGORIES:Repetitie Fanfare
END:VEVENT
BEGIN:VEVENT
DTSTART;TZID=Europe/Amsterdam:20190617T193000
DTEND;TZID=Europe/Amsterdam:20190617T220000
DTSTAMP:20260419T235057
CREATED:20190429T165628Z
LAST-MODIFIED:20190429T165628Z
UID:629-1560799800-1560808800@muziekverenigingnunhem.nl
SUMMARY:Repetitie
DESCRIPTION:
URL:https://muziekverenigingnunhem.nl/event/repetitie-40/
LOCATION:Gemeenschapshuis St. Servaas\, Nederland
CATEGORIES:Repetitie Fanfare
END:VEVENT
BEGIN:VEVENT
DTSTART;TZID=Europe/Amsterdam:20190616T143000
DTEND;TZID=Europe/Amsterdam:20190616T170000
DTSTAMP:20260419T235057
CREATED:20190429T170023Z
LAST-MODIFIED:20190608T154250Z
UID:638-1560695400-1560704400@muziekverenigingnunhem.nl
SUMMARY:Concert Wessem (jeugdfanfare)
DESCRIPTION:De middag begint om 14.30 uur met de New Comers uit Oberkrüchten\, en om 15.00 uur jeugdfanfare Nunhem. Daarna spelen nog de drumband en de Jeugdharmonie van Wessem. Jullie zijn natuurlijk allemaal uitgenodigd om te komen luisteren!!
URL:https://muziekverenigingnunhem.nl/event/concert-wessem-jeugdfanfare/
LOCATION:Wessem\, Wessem\, Nederland
CATEGORIES:Concerten
END:VEVENT
BEGIN:VEVENT
DTSTART;TZID=Europe/Amsterdam:20190613T193000
DTEND;TZID=Europe/Amsterdam:20190613T210000
DTSTAMP:20260419T235057
CREATED:20190429T165559Z
LAST-MODIFIED:20190429T165559Z
UID:627-1560454200-1560459600@muziekverenigingnunhem.nl
SUMMARY:Repetitie
DESCRIPTION:
URL:https://muziekverenigingnunhem.nl/event/repetitie-39/
LOCATION:Gemeenschapshuis St. Servaas\, Nederland
CATEGORIES:Repetitie Fanfare
END:VEVENT
BEGIN:VEVENT
DTSTART;TZID=Europe/Amsterdam:20190606T193000
DTEND;TZID=Europe/Amsterdam:20190606T210000
DTSTAMP:20260419T235057
CREATED:20190603T075553Z
LAST-MODIFIED:20190603T075553Z
UID:646-1559849400-1559854800@muziekverenigingnunhem.nl
SUMMARY:Repetitie
DESCRIPTION:
URL:https://muziekverenigingnunhem.nl/event/repetitie-42/
LOCATION:Gemeenschapshuis St. Servaas\, Nederland
CATEGORIES:Repetitie Fanfare
END:VEVENT
BEGIN:VEVENT
DTSTART;TZID=Europe/Amsterdam:20190603T193000
DTEND;TZID=Europe/Amsterdam:20190603T220000
DTSTAMP:20260419T235057
CREATED:20190429T165522Z
LAST-MODIFIED:20190429T165522Z
UID:625-1559590200-1559599200@muziekverenigingnunhem.nl
SUMMARY:Repetitie
DESCRIPTION:
URL:https://muziekverenigingnunhem.nl/event/repetitie-38/
LOCATION:Gemeenschapshuis St. Servaas\, Nederland
CATEGORIES:Repetitie Fanfare
END:VEVENT
BEGIN:VEVENT
DTSTART;TZID=Europe/Amsterdam:20190526T090000
DTEND;TZID=Europe/Amsterdam:20190526T120000
DTSTAMP:20260419T235057
CREATED:20190429T165924Z
LAST-MODIFIED:20190429T165924Z
UID:636-1558861200-1558872000@muziekverenigingnunhem.nl
SUMMARY:Processie
DESCRIPTION:
URL:https://muziekverenigingnunhem.nl/event/processie/
LOCATION:Servaaskerk Nunhem\, Nederland
CATEGORIES:Concerten
END:VEVENT
BEGIN:VEVENT
DTSTART;TZID=Europe/Amsterdam:20190520T193000
DTEND;TZID=Europe/Amsterdam:20190520T220000
DTSTAMP:20260419T235057
CREATED:20190429T165443Z
LAST-MODIFIED:20190429T165443Z
UID:623-1558380600-1558389600@muziekverenigingnunhem.nl
SUMMARY:Repetitie
DESCRIPTION:
URL:https://muziekverenigingnunhem.nl/event/repetitie-37/
LOCATION:Servaaskerk Nunhem\, Nederland
CATEGORIES:Repetitie Fanfare
END:VEVENT
BEGIN:VEVENT
DTSTART;VALUE=DATE:20190519
DTEND;VALUE=DATE:20190520
DTSTAMP:20260419T235057
CREATED:20190429T165852Z
LAST-MODIFIED:20190429T165852Z
UID:633-1558224000-1558310399@muziekverenigingnunhem.nl
SUMMARY:Communiemis (jeugdfanfare)
DESCRIPTION:
URL:https://muziekverenigingnunhem.nl/event/communiemis-jeugdfanfare/
LOCATION:Lambertuskerk Haelen\, Haelen\, Nederland
CATEGORIES:Concerten
END:VEVENT
BEGIN:VEVENT
DTSTART;TZID=Europe/Amsterdam:20190513T193000
DTEND;TZID=Europe/Amsterdam:20190513T220000
DTSTAMP:20260419T235057
CREATED:20190429T165414Z
LAST-MODIFIED:20190429T165414Z
UID:621-1557775800-1557784800@muziekverenigingnunhem.nl
SUMMARY:Repetitie
DESCRIPTION:
URL:https://muziekverenigingnunhem.nl/event/repetitie-36/
LOCATION:Gemeenschapshuis St. Servaas\, Nederland
CATEGORIES:Repetitie Fanfare
END:VEVENT
BEGIN:VEVENT
DTSTART;TZID=Europe/Amsterdam:20190506T193000
DTEND;TZID=Europe/Amsterdam:20190506T220000
DTSTAMP:20260419T235057
CREATED:20190429T165346Z
LAST-MODIFIED:20190429T165346Z
UID:619-1557171000-1557180000@muziekverenigingnunhem.nl
SUMMARY:Repetitie
DESCRIPTION:
URL:https://muziekverenigingnunhem.nl/event/repetitie-35/
LOCATION:Gemeenschapshuis St. Servaas\, Nederland
CATEGORIES:Repetitie Fanfare
END:VEVENT
BEGIN:VEVENT
DTSTART;TZID=Europe/Amsterdam:20190429T193000
DTEND;TZID=Europe/Amsterdam:20190429T220000
DTSTAMP:20260419T235057
CREATED:20190429T165304Z
LAST-MODIFIED:20190429T165304Z
UID:617-1556566200-1556575200@muziekverenigingnunhem.nl
SUMMARY:Repetitie
DESCRIPTION:
URL:https://muziekverenigingnunhem.nl/event/repetitie-34/
LOCATION:Gemeenschapshuis St. Servaas\, Nederland
CATEGORIES:Repetitie Fanfare
END:VEVENT
BEGIN:VEVENT
DTSTART;VALUE=DATE:20180702
DTEND;VALUE=DATE:20180703
DTSTAMP:20260419T235057
CREATED:20171214T141509Z
LAST-MODIFIED:20171214T141509Z
UID:603-1530489600-1530575999@muziekverenigingnunhem.nl
SUMMARY:Voorspeelavond jeugd
DESCRIPTION:
URL:https://muziekverenigingnunhem.nl/event/voorspeelavond-jeugd/
CATEGORIES:Concerten
END:VEVENT
BEGIN:VEVENT
DTSTART;TZID=Europe/Amsterdam:20180630T160000
DTEND;TZID=Europe/Amsterdam:20180630T220000
DTSTAMP:20260419T235057
CREATED:20180503T190856Z
LAST-MODIFIED:20180503T190856Z
UID:611-1530374400-1530396000@muziekverenigingnunhem.nl
SUMMARY:Dorpsconcert
DESCRIPTION:
URL:https://muziekverenigingnunhem.nl/event/dorpsconcert/
LOCATION:Gemeenschapshuis St. Servaas\, Nederland
CATEGORIES:Concerten
END:VEVENT
BEGIN:VEVENT
DTSTART;TZID=Europe/Amsterdam:20180626T193000
DTEND;TZID=Europe/Amsterdam:20180626T210000
DTSTAMP:20260419T235057
CREATED:20180503T190725Z
LAST-MODIFIED:20180503T190735Z
UID:609-1530041400-1530046800@muziekverenigingnunhem.nl
SUMMARY:Repetitie
DESCRIPTION:
URL:https://muziekverenigingnunhem.nl/event/repetitie-33/
CATEGORIES:Repetitie Fanfare
END:VEVENT
BEGIN:VEVENT
DTSTART;TZID=Europe/Amsterdam:20180625T193000
DTEND;TZID=Europe/Amsterdam:20180625T220000
DTSTAMP:20260419T235057
CREATED:20171214T141427Z
LAST-MODIFIED:20171214T141427Z
UID:601-1529955000-1529964000@muziekverenigingnunhem.nl
SUMMARY:Repetitie
DESCRIPTION:
URL:https://muziekverenigingnunhem.nl/event/repetitie-32/
CATEGORIES:Repetitie Fanfare
END:VEVENT
BEGIN:VEVENT
DTSTART;TZID=Europe/Amsterdam:20180618T193000
DTEND;TZID=Europe/Amsterdam:20180618T220000
DTSTAMP:20260419T235057
CREATED:20171214T141357Z
LAST-MODIFIED:20171214T141357Z
UID:599-1529350200-1529359200@muziekverenigingnunhem.nl
SUMMARY:Repetitie
DESCRIPTION:
URL:https://muziekverenigingnunhem.nl/event/repetitie-31/
CATEGORIES:Repetitie Fanfare
END:VEVENT
BEGIN:VEVENT
DTSTART;TZID=Europe/Amsterdam:20180611T193000
DTEND;TZID=Europe/Amsterdam:20180611T220000
DTSTAMP:20260419T235057
CREATED:20171214T141327Z
LAST-MODIFIED:20171214T141327Z
UID:597-1528745400-1528754400@muziekverenigingnunhem.nl
SUMMARY:Repetitie
DESCRIPTION:
URL:https://muziekverenigingnunhem.nl/event/repetitie-30/
CATEGORIES:Repetitie Fanfare
END:VEVENT
BEGIN:VEVENT
DTSTART;TZID=Europe/Amsterdam:20180604T193000
DTEND;TZID=Europe/Amsterdam:20180604T220000
DTSTAMP:20260419T235057
CREATED:20171214T141138Z
LAST-MODIFIED:20171214T141138Z
UID:595-1528140600-1528149600@muziekverenigingnunhem.nl
SUMMARY:Repetitie
DESCRIPTION:
URL:https://muziekverenigingnunhem.nl/event/repetitie-29/
CATEGORIES:Repetitie Fanfare
END:VEVENT
BEGIN:VEVENT
DTSTART;TZID=Europe/Amsterdam:20180528T193000
DTEND;TZID=Europe/Amsterdam:20180528T220000
DTSTAMP:20260419T235057
CREATED:20171214T141103Z
LAST-MODIFIED:20171214T141103Z
UID:593-1527535800-1527544800@muziekverenigingnunhem.nl
SUMMARY:Repetitie
DESCRIPTION:
URL:https://muziekverenigingnunhem.nl/event/repetitie-28/
CATEGORIES:Repetitie Fanfare
END:VEVENT
BEGIN:VEVENT
DTSTART;TZID=Europe/Amsterdam:20180522T193000
DTEND;TZID=Europe/Amsterdam:20180522T210000
DTSTAMP:20260419T235057
CREATED:20171214T141034Z
LAST-MODIFIED:20180503T190558Z
UID:591-1527017400-1527022800@muziekverenigingnunhem.nl
SUMMARY:Repetitie
DESCRIPTION:
URL:https://muziekverenigingnunhem.nl/event/repetitie-o-v-b-2/
CATEGORIES:Repetitie Fanfare
END:VEVENT
BEGIN:VEVENT
DTSTART;TZID=Europe/Amsterdam:20180514T193000
DTEND;TZID=Europe/Amsterdam:20180514T220000
DTSTAMP:20260419T235057
CREATED:20171214T140738Z
LAST-MODIFIED:20171214T140738Z
UID:589-1526326200-1526335200@muziekverenigingnunhem.nl
SUMMARY:Repetitie
DESCRIPTION:
URL:https://muziekverenigingnunhem.nl/event/repetitie-27/
CATEGORIES:Repetitie Fanfare
END:VEVENT
BEGIN:VEVENT
DTSTART;TZID=Europe/Amsterdam:20180506T090000
DTEND;TZID=Europe/Amsterdam:20180506T120000
DTSTAMP:20260419T235057
CREATED:20171214T140652Z
LAST-MODIFIED:20171214T140652Z
UID:587-1525597200-1525608000@muziekverenigingnunhem.nl
SUMMARY:St. Servaasprocessie
DESCRIPTION:
URL:https://muziekverenigingnunhem.nl/event/st-servaasprocessie/
CATEGORIES:Concerten
END:VEVENT
BEGIN:VEVENT
DTSTART;TZID=Europe/Amsterdam:20180430T193000
DTEND;TZID=Europe/Amsterdam:20180430T220000
DTSTAMP:20260419T235057
CREATED:20171214T140613Z
LAST-MODIFIED:20171214T140613Z
UID:585-1525116600-1525125600@muziekverenigingnunhem.nl
SUMMARY:Repetitie
DESCRIPTION:
URL:https://muziekverenigingnunhem.nl/event/repetitie-26/
CATEGORIES:Repetitie Fanfare
END:VEVENT
BEGIN:VEVENT
DTSTART;TZID=Europe/Amsterdam:20180423T193000
DTEND;TZID=Europe/Amsterdam:20180423T220000
DTSTAMP:20260419T235057
CREATED:20171214T140529Z
LAST-MODIFIED:20171214T140529Z
UID:583-1524511800-1524520800@muziekverenigingnunhem.nl
SUMMARY:Repetitie
DESCRIPTION:
URL:https://muziekverenigingnunhem.nl/event/repetitie-25/
CATEGORIES:Repetitie Fanfare
END:VEVENT
END:VCALENDAR