BEGIN:VCALENDAR
VERSION:2.0
PRODID:-//Muziekvereniging Nunhem - ECPv6.15.20//NONSGML v1.0//EN
CALSCALE:GREGORIAN
METHOD:PUBLISH
X-WR-CALNAME:Muziekvereniging Nunhem
X-ORIGINAL-URL:https://muziekverenigingnunhem.nl
X-WR-CALDESC:Evenementen voor Muziekvereniging Nunhem
REFRESH-INTERVAL;VALUE=DURATION:PT1H
X-Robots-Tag:noindex
X-PUBLISHED-TTL:PT1H
BEGIN:VTIMEZONE
TZID:Europe/Amsterdam
BEGIN:DAYLIGHT
TZOFFSETFROM:+0100
TZOFFSETTO:+0200
TZNAME:CEST
DTSTART:20180325T010000
END:DAYLIGHT
BEGIN:STANDARD
TZOFFSETFROM:+0200
TZOFFSETTO:+0100
TZNAME:CET
DTSTART:20181028T010000
END:STANDARD
BEGIN:DAYLIGHT
TZOFFSETFROM:+0100
TZOFFSETTO:+0200
TZNAME:CEST
DTSTART:20190331T010000
END:DAYLIGHT
BEGIN:STANDARD
TZOFFSETFROM:+0200
TZOFFSETTO:+0100
TZNAME:CET
DTSTART:20191027T010000
END:STANDARD
BEGIN:DAYLIGHT
TZOFFSETFROM:+0100
TZOFFSETTO:+0200
TZNAME:CEST
DTSTART:20200329T010000
END:DAYLIGHT
BEGIN:STANDARD
TZOFFSETFROM:+0200
TZOFFSETTO:+0100
TZNAME:CET
DTSTART:20201025T010000
END:STANDARD
BEGIN:DAYLIGHT
TZOFFSETFROM:+0100
TZOFFSETTO:+0200
TZNAME:CEST
DTSTART:20210328T010000
END:DAYLIGHT
BEGIN:STANDARD
TZOFFSETFROM:+0200
TZOFFSETTO:+0100
TZNAME:CET
DTSTART:20211031T010000
END:STANDARD
BEGIN:DAYLIGHT
TZOFFSETFROM:+0100
TZOFFSETTO:+0200
TZNAME:CEST
DTSTART:20220327T010000
END:DAYLIGHT
BEGIN:STANDARD
TZOFFSETFROM:+0200
TZOFFSETTO:+0100
TZNAME:CET
DTSTART:20221030T010000
END:STANDARD
BEGIN:DAYLIGHT
TZOFFSETFROM:+0100
TZOFFSETTO:+0200
TZNAME:CEST
DTSTART:20230326T010000
END:DAYLIGHT
BEGIN:STANDARD
TZOFFSETFROM:+0200
TZOFFSETTO:+0100
TZNAME:CET
DTSTART:20231029T010000
END:STANDARD
BEGIN:DAYLIGHT
TZOFFSETFROM:+0100
TZOFFSETTO:+0200
TZNAME:CEST
DTSTART:20240331T010000
END:DAYLIGHT
BEGIN:STANDARD
TZOFFSETFROM:+0200
TZOFFSETTO:+0100
TZNAME:CET
DTSTART:20241027T010000
END:STANDARD
BEGIN:DAYLIGHT
TZOFFSETFROM:+0100
TZOFFSETTO:+0200
TZNAME:CEST
DTSTART:20250330T010000
END:DAYLIGHT
BEGIN:STANDARD
TZOFFSETFROM:+0200
TZOFFSETTO:+0100
TZNAME:CET
DTSTART:20251026T010000
END:STANDARD
BEGIN:DAYLIGHT
TZOFFSETFROM:+0100
TZOFFSETTO:+0200
TZNAME:CEST
DTSTART:20260329T010000
END:DAYLIGHT
BEGIN:STANDARD
TZOFFSETFROM:+0200
TZOFFSETTO:+0100
TZNAME:CET
DTSTART:20261025T010000
END:STANDARD
END:VTIMEZONE
BEGIN:VEVENT
DTSTART;TZID=Europe/Amsterdam:20250628T200000
DTEND;TZID=Europe/Amsterdam:20250628T233000
DTSTAMP:20260419T202455
CREATED:20241202T104045Z
LAST-MODIFIED:20241202T104951Z
UID:942-1751140800-1751153400@muziekverenigingnunhem.nl
SUMMARY:Maestro Nunhem voorronde
DESCRIPTION:
URL:https://muziekverenigingnunhem.nl/event/maestro-nunhem-voorronde/
LOCATION:Gemeenschapshuis St. Servaas\, Nederland
CATEGORIES:Concerten
END:VEVENT
BEGIN:VEVENT
DTSTART;TZID=Europe/Amsterdam:20250627T180000
DTEND;TZID=Europe/Amsterdam:20250627T200000
DTSTAMP:20260419T202455
CREATED:20250411T125620Z
LAST-MODIFIED:20250411T125620Z
UID:1002-1751047200-1751054400@muziekverenigingnunhem.nl
SUMMARY:Oud papier ophalen
DESCRIPTION:
URL:https://muziekverenigingnunhem.nl/event/oud-papier-ophalen-3/
CATEGORIES:Oud papier ophalen
END:VEVENT
BEGIN:VEVENT
DTSTART;TZID=Europe/Amsterdam:20250609T103000
DTEND;TZID=Europe/Amsterdam:20250609T113000
DTSTAMP:20260419T202455
CREATED:20250411T125147Z
LAST-MODIFIED:20250411T125147Z
UID:996-1749465000-1749468600@muziekverenigingnunhem.nl
SUMMARY:Concert Boerenlandmarkt
DESCRIPTION:
URL:https://muziekverenigingnunhem.nl/event/concert-boerenlandmarkt/
CATEGORIES:Concerten
END:VEVENT
BEGIN:VEVENT
DTSTART;TZID=Europe/Amsterdam:20250530T180000
DTEND;TZID=Europe/Amsterdam:20250530T203000
DTSTAMP:20260419T202455
CREATED:20250411T125552Z
LAST-MODIFIED:20250411T125552Z
UID:1000-1748628000-1748637000@muziekverenigingnunhem.nl
SUMMARY:Oud papier ophalen
DESCRIPTION:
URL:https://muziekverenigingnunhem.nl/event/oud-papier-ophalen-2/
CATEGORIES:Oud papier ophalen
END:VEVENT
BEGIN:VEVENT
DTSTART;TZID=Europe/Amsterdam:20250525T093000
DTEND;TZID=Europe/Amsterdam:20250525T120000
DTSTAMP:20260419T202455
CREATED:20250411T125049Z
LAST-MODIFIED:20250411T125049Z
UID:994-1748165400-1748174400@muziekverenigingnunhem.nl
SUMMARY:St. Servaasprocessie
DESCRIPTION:
URL:https://muziekverenigingnunhem.nl/event/st-servaasprocessie-2/
LOCATION:Servaaskerk Nunhem\, Nederland
CATEGORIES:Concerten
END:VEVENT
BEGIN:VEVENT
DTSTART;TZID=Europe/Amsterdam:20250425T180000
DTEND;TZID=Europe/Amsterdam:20250425T200000
DTSTAMP:20260419T202455
CREATED:20250411T125503Z
LAST-MODIFIED:20250411T125510Z
UID:998-1745604000-1745611200@muziekverenigingnunhem.nl
SUMMARY:Oud papier ophalen
DESCRIPTION:
URL:https://muziekverenigingnunhem.nl/event/oud-papier-ophalen/
CATEGORIES:Oud papier ophalen
END:VEVENT
BEGIN:VEVENT
DTSTART;VALUE=DATE:20250322
DTEND;VALUE=DATE:20250323
DTSTAMP:20260419T202455
CREATED:20250306T130029Z
LAST-MODIFIED:20250306T130257Z
UID:983-1742601600-1742687999@muziekverenigingnunhem.nl
SUMMARY:Tuinproductenactie za 22 maart
DESCRIPTION:De tijd is weer aangebroken om uw tuin op orde te maken.\nHierbij biedt de Muziekvereniging Nunhem\, in samenwerking met Janszen Buggenum – Bloemen – Dier en Tuin\, u voor het begin van de lente 4 tuinproducten aan.\nNet als ieder jaar leveren wij als extra service de bestelde producten bij u thuis. \nDownload hier het Bestelformulier \n 
URL:https://muziekverenigingnunhem.nl/event/tuinproductenactie/
END:VEVENT
BEGIN:VEVENT
DTSTART;TZID=Europe/Amsterdam:20250105T160000
DTEND;TZID=Europe/Amsterdam:20250105T180000
DTSTAMP:20260419T202455
CREATED:20241202T104805Z
LAST-MODIFIED:20250105T140201Z
UID:951-1736092800-1736100000@muziekverenigingnunhem.nl
SUMMARY:Nieuwjaarsconcert
DESCRIPTION:
URL:https://muziekverenigingnunhem.nl/event/nieuwjaarsconcert/
LOCATION:Huiskamer van het Leudal\, Kerkstraat 17\, Nunhem\, 6083 AD\, Netherlands
CATEGORIES:Concerten
END:VEVENT
BEGIN:VEVENT
DTSTART;TZID=Europe/Amsterdam:20241224T200000
DTEND;TZID=Europe/Amsterdam:20241224T210000
DTSTAMP:20260419T202455
CREATED:20241221T144822Z
LAST-MODIFIED:20241221T144822Z
UID:958-1735070400-1735074000@muziekverenigingnunhem.nl
SUMMARY:Kerstliedjes bij de kerk
DESCRIPTION:
URL:https://muziekverenigingnunhem.nl/event/kerstliedjes-bij-de-kerk/
END:VEVENT
BEGIN:VEVENT
DTSTART;TZID=Europe/Amsterdam:20240420T190000
DTEND;TZID=Europe/Amsterdam:20240420T220000
DTSTAMP:20260419T202455
CREATED:20240419T184747Z
LAST-MODIFIED:20240419T184747Z
UID:923-1713639600-1713650400@muziekverenigingnunhem.nl
SUMMARY:Voorjaarsconcert
DESCRIPTION:
URL:https://muziekverenigingnunhem.nl/event/voorjaarsconcert/
LOCATION:Kelpen-oler
CATEGORIES:Concerten
END:VEVENT
BEGIN:VEVENT
DTSTART;TZID=Europe/Amsterdam:20230709T150000
DTEND;TZID=Europe/Amsterdam:20230709T170000
DTSTAMP:20260419T202455
CREATED:20230702T154317Z
LAST-MODIFIED:20230702T154523Z
UID:912-1688914800-1688922000@muziekverenigingnunhem.nl
SUMMARY:Dorpsconcert 2023
DESCRIPTION:Locatie: Cafe restaurant Houben te Nunhem
URL:https://muziekverenigingnunhem.nl/event/dorpsconcert-2023/
CATEGORIES:Concerten
END:VEVENT
BEGIN:VEVENT
DTSTART;TZID=Europe/Amsterdam:20230415T193000
DTEND;TZID=Europe/Amsterdam:20230415T223000
DTSTAMP:20260419T202455
CREATED:20220904T161904Z
LAST-MODIFIED:20220904T161904Z
UID:831-1681587000-1681597800@muziekverenigingnunhem.nl
SUMMARY:Top 2000 concert
DESCRIPTION:
URL:https://muziekverenigingnunhem.nl/event/top-2000-concert/
END:VEVENT
BEGIN:VEVENT
DTSTART;TZID=Europe/Amsterdam:20221106T163000
DTEND;TZID=Europe/Amsterdam:20221106T180000
DTSTAMP:20260419T202455
CREATED:20220904T161711Z
LAST-MODIFIED:20220904T161711Z
UID:829-1667752200-1667757600@muziekverenigingnunhem.nl
SUMMARY:Kindervoorstelling in samenwerking met Sjan
DESCRIPTION:
URL:https://muziekverenigingnunhem.nl/event/kindervoorstelling-in-samenwerking-met-sjan/
END:VEVENT
BEGIN:VEVENT
DTSTART;TZID=Europe/Amsterdam:20220710T150000
DTEND;TZID=Europe/Amsterdam:20220710T180000
DTSTAMP:20260419T202455
CREATED:20220306T141150Z
LAST-MODIFIED:20220504T192604Z
UID:678-1657465200-1657476000@muziekverenigingnunhem.nl
SUMMARY:Jubileum (dorps)concert
DESCRIPTION:
URL:https://muziekverenigingnunhem.nl/event/jubileum-dorpsconcert/
LOCATION:Herman Meddensplein\, Nunhem
CATEGORIES:Concerten
END:VEVENT
BEGIN:VEVENT
DTSTART;TZID=Europe/Amsterdam:20220612T100000
DTEND;TZID=Europe/Amsterdam:20220612T143000
DTSTAMP:20260419T202455
CREATED:20220515T130709Z
LAST-MODIFIED:20220515T130709Z
UID:743-1655028000-1655044200@muziekverenigingnunhem.nl
SUMMARY:Repetitiedag
DESCRIPTION:Lunch wordt verzorgd
URL:https://muziekverenigingnunhem.nl/event/repetitiedag/
CATEGORIES:Repetitie Fanfare
END:VEVENT
BEGIN:VEVENT
DTSTART;TZID=Europe/Amsterdam:20220608T080000
DTEND;TZID=Europe/Amsterdam:20220608T170000
DTSTAMP:20260419T202455
CREATED:20220515T130125Z
LAST-MODIFIED:20220515T130125Z
UID:741-1654675200-1654707600@muziekverenigingnunhem.nl
SUMMARY:Repetitie
DESCRIPTION:Vervangt repetitie van Pinkstermaandag
URL:https://muziekverenigingnunhem.nl/event/repetitie-45/
CATEGORIES:Repetitie Fanfare
END:VEVENT
BEGIN:VEVENT
DTSTART;TZID=Europe/Amsterdam:20220530T193000
DTEND;TZID=Europe/Amsterdam:20220530T214500
DTSTAMP:20260419T202455
CREATED:20220515T125914Z
LAST-MODIFIED:20220515T130241Z
UID:739-1653939000-1653947100@muziekverenigingnunhem.nl
SUMMARY:Repetitie
DESCRIPTION:
URL:https://muziekverenigingnunhem.nl/event/repetitie-44/
CATEGORIES:Repetitie Fanfare
END:VEVENT
BEGIN:VEVENT
DTSTART;TZID=Europe/Amsterdam:20220527T180000
DTEND;TZID=Europe/Amsterdam:20220527T203000
DTSTAMP:20260419T202455
CREATED:20220411T150848Z
LAST-MODIFIED:20220411T151118Z
UID:720-1653674400-1653683400@muziekverenigingnunhem.nl
SUMMARY:Oud papier mei
DESCRIPTION:
URL:https://muziekverenigingnunhem.nl/event/oud-papier-mei/
CATEGORIES:Oud papier ophalen
END:VEVENT
BEGIN:VEVENT
DTSTART;TZID=Europe/Amsterdam:20220523T193000
DTEND;TZID=Europe/Amsterdam:20220523T214500
DTSTAMP:20260419T202455
CREATED:20220515T125808Z
LAST-MODIFIED:20220515T130202Z
UID:737-1653334200-1653342300@muziekverenigingnunhem.nl
SUMMARY:Repetitie
DESCRIPTION:
URL:https://muziekverenigingnunhem.nl/event/repetitie-43/
CATEGORIES:Repetitie Fanfare
END:VEVENT
BEGIN:VEVENT
DTSTART;TZID=Europe/Amsterdam:20220522T093000
DTEND;TZID=Europe/Amsterdam:20220522T123000
DTSTAMP:20260419T202455
CREATED:20220411T152353Z
LAST-MODIFIED:20220411T152639Z
UID:722-1653211800-1653222600@muziekverenigingnunhem.nl
SUMMARY:Servaasprocessie
DESCRIPTION:
URL:https://muziekverenigingnunhem.nl/event/servaasprocessie/
LOCATION:Servaaskerk Nunhem\, Nederland
CATEGORIES:Concerten
END:VEVENT
BEGIN:VEVENT
DTSTART;TZID=Europe/Amsterdam:20220516T193000
DTEND;TZID=Europe/Amsterdam:20220516T213000
DTSTAMP:20260419T202455
CREATED:20220515T125623Z
LAST-MODIFIED:20220515T125623Z
UID:735-1652729400-1652736600@muziekverenigingnunhem.nl
SUMMARY:Repetitie met oefenen voor processie
DESCRIPTION:
URL:https://muziekverenigingnunhem.nl/event/repetitie-met-oefenen-voor-processie/
CATEGORIES:Repetitie Fanfare
END:VEVENT
BEGIN:VEVENT
DTSTART;TZID=Europe/Amsterdam:20220429T180000
DTEND;TZID=Europe/Amsterdam:20220429T203000
DTSTAMP:20260419T202455
CREATED:20220411T145915Z
LAST-MODIFIED:20220411T151232Z
UID:715-1651255200-1651264200@muziekverenigingnunhem.nl
SUMMARY:Oud papier april
DESCRIPTION:
URL:https://muziekverenigingnunhem.nl/event/oud-papier-april/
CATEGORIES:Oud papier ophalen
END:VEVENT
BEGIN:VEVENT
DTSTART;TZID=Europe/Amsterdam:20220411T193000
DTEND;TZID=Europe/Amsterdam:20220411T220000
DTSTAMP:20260419T202455
CREATED:20220411T142304Z
LAST-MODIFIED:20220411T144143Z
UID:710-1649705400-1649714400@muziekverenigingnunhem.nl
SUMMARY:Repetitie en jaarvergadering
DESCRIPTION:
URL:https://muziekverenigingnunhem.nl/event/repetitie-en-jaarvergadering/
LOCATION:Gemeenschapshuis St. Servaas\, Nederland
CATEGORIES:Repetitie Fanfare
END:VEVENT
BEGIN:VEVENT
DTSTART;TZID=Europe/Amsterdam:20190707T143000
DTEND;TZID=Europe/Amsterdam:20190707T180000
DTSTAMP:20260419T202455
CREATED:20190429T170102Z
LAST-MODIFIED:20190608T154152Z
UID:641-1562509800-1562522400@muziekverenigingnunhem.nl
SUMMARY:Dorpsconcert Around the world
DESCRIPTION:Locatie Dorpsplein en bij slecht weer in de Servaaszaal. Het publiek zal tijdens het luisteren naar de muziek uit diverse landen\, getrakteerd worden op passende hapjes en drankjes.\nOok nemen we deze middag afscheid van Hans Breuls.
URL:https://muziekverenigingnunhem.nl/event/dorpsconcert-around-the-world/
LOCATION:Gemeenschapshuis St. Servaas\, Nederland
CATEGORIES:Concerten
END:VEVENT
BEGIN:VEVENT
DTSTART;TZID=Europe/Amsterdam:20190701T190000
DTEND;TZID=Europe/Amsterdam:20190701T203000
DTSTAMP:20260419T202455
CREATED:20190429T170824Z
LAST-MODIFIED:20190429T170824Z
UID:643-1562007600-1562013000@muziekverenigingnunhem.nl
SUMMARY:Voorspeelavond jeugd
DESCRIPTION:
URL:https://muziekverenigingnunhem.nl/event/voorspeelavond-jeugd-2/
LOCATION:Gemeenschapshuis St. Servaas\, Nederland
CATEGORIES:Concerten
END:VEVENT
BEGIN:VEVENT
DTSTART;TZID=Europe/Amsterdam:20190624T193000
DTEND;TZID=Europe/Amsterdam:20190624T220000
DTSTAMP:20260419T202455
CREATED:20190429T165653Z
LAST-MODIFIED:20190429T165653Z
UID:631-1561404600-1561413600@muziekverenigingnunhem.nl
SUMMARY:Repetitie
DESCRIPTION:
URL:https://muziekverenigingnunhem.nl/event/repetitie-41/
LOCATION:Gemeenschapshuis St. Servaas\, Nederland
CATEGORIES:Repetitie Fanfare
END:VEVENT
BEGIN:VEVENT
DTSTART;TZID=Europe/Amsterdam:20190617T193000
DTEND;TZID=Europe/Amsterdam:20190617T220000
DTSTAMP:20260419T202455
CREATED:20190429T165628Z
LAST-MODIFIED:20190429T165628Z
UID:629-1560799800-1560808800@muziekverenigingnunhem.nl
SUMMARY:Repetitie
DESCRIPTION:
URL:https://muziekverenigingnunhem.nl/event/repetitie-40/
LOCATION:Gemeenschapshuis St. Servaas\, Nederland
CATEGORIES:Repetitie Fanfare
END:VEVENT
BEGIN:VEVENT
DTSTART;TZID=Europe/Amsterdam:20190616T143000
DTEND;TZID=Europe/Amsterdam:20190616T170000
DTSTAMP:20260419T202455
CREATED:20190429T170023Z
LAST-MODIFIED:20190608T154250Z
UID:638-1560695400-1560704400@muziekverenigingnunhem.nl
SUMMARY:Concert Wessem (jeugdfanfare)
DESCRIPTION:De middag begint om 14.30 uur met de New Comers uit Oberkrüchten\, en om 15.00 uur jeugdfanfare Nunhem. Daarna spelen nog de drumband en de Jeugdharmonie van Wessem. Jullie zijn natuurlijk allemaal uitgenodigd om te komen luisteren!!
URL:https://muziekverenigingnunhem.nl/event/concert-wessem-jeugdfanfare/
LOCATION:Wessem\, Wessem\, Nederland
CATEGORIES:Concerten
END:VEVENT
BEGIN:VEVENT
DTSTART;TZID=Europe/Amsterdam:20190613T193000
DTEND;TZID=Europe/Amsterdam:20190613T210000
DTSTAMP:20260419T202455
CREATED:20190429T165559Z
LAST-MODIFIED:20190429T165559Z
UID:627-1560454200-1560459600@muziekverenigingnunhem.nl
SUMMARY:Repetitie
DESCRIPTION:
URL:https://muziekverenigingnunhem.nl/event/repetitie-39/
LOCATION:Gemeenschapshuis St. Servaas\, Nederland
CATEGORIES:Repetitie Fanfare
END:VEVENT
BEGIN:VEVENT
DTSTART;TZID=Europe/Amsterdam:20190606T193000
DTEND;TZID=Europe/Amsterdam:20190606T210000
DTSTAMP:20260419T202455
CREATED:20190603T075553Z
LAST-MODIFIED:20190603T075553Z
UID:646-1559849400-1559854800@muziekverenigingnunhem.nl
SUMMARY:Repetitie
DESCRIPTION:
URL:https://muziekverenigingnunhem.nl/event/repetitie-42/
LOCATION:Gemeenschapshuis St. Servaas\, Nederland
CATEGORIES:Repetitie Fanfare
END:VEVENT
END:VCALENDAR